BEGIN:VCALENDAR
VERSION:2.0
PRODID:Events Booking
BEGIN:VEVENT
UID:69e6fa7935ba5
SUMMARY:Regata Internazionale EST 105
DESCRIPTION:Regata Internazionale EST 105
LOCATION:Lungomare Starita\, 1B\, 70132 Bari BA
DTSTART:20240516T120000Z
DTEND:20240518T230000Z
DTSTAMP:20240507T092554Z
ORGANIZER;CN=Bari Eventi e Notizie:MAILTO:networkeventnews@gmail.com
GEO:41.136969;16.845672
X-APPLE-STRUCTURED-LOCATION;VALUE=URI;X-ADDRESS=Lungomare Starita\, 1B\, 70
 132 Bari BA;X-APPLE-RADIUS=72;X-TITLE=CUS Bari:41.136969;16.845672
END:VEVENT
END:VCALENDAR