BEGIN:VCALENDAR
VERSION:2.0
PRODID:Events Booking
BEGIN:VEVENT
UID:69e6faacdd5d4
SUMMARY:Polini Italian Cup - 20° Edizione 
DESCRIPTION:Polini Italian Cup - 20° Edizione
LOCATION:SP17\, Km 3/9\, 70020 Binetto BA
DTSTART:20241013T090000Z
DTSTAMP:20240507T104243Z
ORGANIZER;CN=Bari Eventi e Notizie:MAILTO:networkeventnews@gmail.com
GEO:41.020672;16.738731
X-APPLE-STRUCTURED-LOCATION;VALUE=URI;X-ADDRESS=SP17\, Km 3/9\, 70020 Binet
 to BA;X-APPLE-RADIUS=72;X-TITLE=Levante Circuit:41.020672;16.738731
END:VEVENT
END:VCALENDAR