BEGIN:VCALENDAR
VERSION:2.0
PRODID:Events Booking
BEGIN:VEVENT
UID:69e6fab79e712
SUMMARY:Giornata in pista con Maurizio Bottalico 
DESCRIPTION:Giornata in pista con Maurizio Bottalico
LOCATION:SP17\, Km 3/9\, 70020 Binetto BA
DTSTART:20240525T083000Z
DTEND:20240526T230000Z
DTSTAMP:20240507T103905Z
ORGANIZER;CN=Bari Eventi e Notizie:MAILTO:networkeventnews@gmail.com
GEO:41.020672;16.738731
X-APPLE-STRUCTURED-LOCATION;VALUE=URI;X-ADDRESS=SP17\, Km 3/9\, 70020 Binet
 to BA;X-APPLE-RADIUS=72;X-TITLE=Levante Circuit:41.020672;16.738731
END:VEVENT
END:VCALENDAR