BEGIN:VCALENDAR
VERSION:2.0
PRODID:Events Booking
BEGIN:VEVENT
UID:69e7126cb71a7
SUMMARY:Serata 3M - MUJEN\, MARGARET MEAD\, MADHOUSE
DESCRIPTION:Serata 3M - MUJEN\, MARGARET MEAD\, MADHOUSE
LOCATION:Str. Vicinale Glomerelli\, 17\, 70132 Bari BA
DTSTART:20240525T210000Z
DTSTAMP:20240507T111515Z
ORGANIZER;CN=Bari Eventi e Notizie:MAILTO:networkeventnews@gmail.com
GEO:41.113293;16.842234
X-APPLE-STRUCTURED-LOCATION;VALUE=URI;X-ADDRESS=Str. Vicinale Glomerelli\, 
 17\, 70132 Bari BA;X-APPLE-RADIUS=72;X-TITLE=Extreme Music Academy:41.1132
 93;16.842234
END:VEVENT
END:VCALENDAR