BEGIN:VCALENDAR
VERSION:2.0
PRODID:Events Booking
BEGIN:VEVENT
UID:69eb7caf153dd
SUMMARY:Massimo Lopez & Tullio Solenghi - Dove Eravamo Rimasti
DESCRIPTION:Massimo Lopez &amp\; Tullio Solenghi \"Dove Eravamo Rimasti\"
LOCATION:Corso Cavour\, 12\, 70122 Bari BA
DTSTART:20241117T183000Z
DTSTAMP:20240507T102235Z
ORGANIZER;CN=Bari Eventi e Notizie:MAILTO:networkeventnews@gmail.com
GEO:41.123845;16.872641
X-APPLE-STRUCTURED-LOCATION;VALUE=URI;X-ADDRESS=Corso Cavour\, 12\, 70122 B
 ari BA;X-APPLE-RADIUS=72;X-TITLE=Teatro Petruzzelli:41.123845;16.872641
END:VEVENT
END:VCALENDAR