BEGIN:VCALENDAR
VERSION:2.0
PRODID:Events Booking
BEGIN:VEVENT
UID:69e72b651a112
SUMMARY:Lo Schiaccianoci - Balletto di Mosca
DESCRIPTION:Lo Schiaccianoci -&nbsp\;- Balletto di Mosca
LOCATION:Via Giustina Rocca\, 70126 Bari BA
DTSTART:20250116T210000Z
DTSTAMP:20240507T094523Z
ORGANIZER;CN=Bari Eventi e Notizie:MAILTO:networkeventnews@gmail.com
GEO:41.09952;16.903331
X-APPLE-STRUCTURED-LOCATION;VALUE=URI;X-ADDRESS=Via Giustina Rocca\, 70126 
 Bari BA;X-APPLE-RADIUS=72;X-TITLE=Teatro Team:41.09952;16.903331
END:VEVENT
END:VCALENDAR